BEGIN:VCALENDAR
VERSION:2.0
PRODID:-//Tukios.com/
BEGIN:VEVENT
UID:082d7cdb-5099-4c81-ab43-1f7f237d4087@www.moorefunerals.com
DTSTAMP:20260420T222540Z
DTSTART:20260503T190000Z
DTEND:20260503T200000Z
SUMMARY:Celebration of Life
DESCRIPTION:
URL:https://www.moorefunerals.com/obituaries/tony-ketcherside
LOCATION:Irondale Community Center 204 Cherokee Dr  Irondale MO 63648
GEO:37.8336607;-90.6681656
END:VEVENT
END:VCALENDAR