BEGIN:VCALENDAR
VERSION:2.0
PRODID:-//Tukios.com/
BEGIN:VEVENT
UID:50fca923-8133-48bc-8e82-115f6532a213@www.moorefunerals.com
DTSTAMP:20260421T223428Z
DTSTART:20260505T183000Z
DTEND:20260505T193000Z
SUMMARY:Burial
DESCRIPTION:
URL:https://www.moorefunerals.com/obituaries/jeffrey-kamper
LOCATION: 2900 Sheridan Road  St. Louis MO 63125
GEO:38.5014312;-90.2881713
END:VEVENT
END:VCALENDAR