BEGIN:VCALENDAR
VERSION:2.0
PRODID:-//Tukios.com/
BEGIN:VEVENT
UID:95c2e7eb-3a0c-4639-9fd4-b73260c92267@www.moorefunerals.com
DTSTAMP:20260421T223826Z
DTSTART:20260501T160000Z
DTEND:20260501T170000Z
SUMMARY:Funeral Service
DESCRIPTION:
URL:https://www.moorefunerals.com/obituaries/jeffrey-kamper
LOCATION:Moore Funeral Home 105 Clark Street  Potosi MO 63664
GEO:37.9380503;-90.7869743
END:VEVENT
END:VCALENDAR