BEGIN:VCALENDAR
VERSION:2.0
PRODID:-//Tukios.com/
BEGIN:VEVENT
UID:33760d01-a685-4a1c-81ee-d22dc319e539@www.moorefunerals.com
DTSTAMP:20260421T223853Z
DTSTART:20260501T140000Z
DTEND:20260501T160000Z
SUMMARY:Public/Visitation
DESCRIPTION:
URL:https://www.moorefunerals.com/obituaries/jeffrey-kamper
LOCATION:Moore Funeral Home 105 Clark Street  Potosi MO 63664
GEO:37.9380503;-90.7869743
END:VEVENT
END:VCALENDAR