BEGIN:VCALENDAR
VERSION:2.0
PRODID:-//Tukios.com/
BEGIN:VEVENT
UID:5cd3786b-e078-4ad3-ad68-39bb4b46df77@www.moorefunerals.com
DTSTAMP:20260421T224004Z
DTSTART:20260430T210000Z
DTEND:20260501T010000Z
SUMMARY:Public/Visitation
DESCRIPTION:
URL:https://www.moorefunerals.com/obituaries/jeffrey-kamper
LOCATION:Moore Funeral Home 105 Clark Street  Potosi MO 63664
GEO:37.9380503;-90.7869743
END:VEVENT
END:VCALENDAR